Package: CytoDx Version: 1.31.0 Command: rm -rf CytoDx.buildbin-libdir && mkdir CytoDx.buildbin-libdir && /Users/biocbuild/BBS/utils/build-universal.sh CytoDx_1.31.0.tar.gz /Library/Frameworks/R.framework/Resources/bin/R CytoDx.buildbin-libdir StartedAt: 2025-11-13 23:34:02 -0500 (Thu, 13 Nov 2025) EndedAt: 2025-11-13 23:34:09 -0500 (Thu, 13 Nov 2025) EllapsedTime: 6.1 seconds RetCode: 0 Status: OK PackageFile: CytoDx_1.31.0.tgz PackageFileSize: 516.5 KiB