Package: CytoDx Version: 1.31.0 Maintainer: Zicheng Hu MaintainerEmail: zicheng.hu at ucsf.edu git_url: https://git.bioconductor.org/packages/CytoDx git_branch: devel git_last_commit: 541a9d4 git_last_commit_date: 2025-10-29 10:44:48 -0500 (Wed, 29 Oct 2025)