Package: CyTOFpower Version: 1.17.0 Command: /home/biocbuild/bbs-3.23-bioc/R/bin/R CMD INSTALL CyTOFpower StartedAt: 2025-11-13 15:30:45 -0500 (Thu, 13 Nov 2025) EndedAt: 2025-11-13 15:30:50 -0500 (Thu, 13 Nov 2025) EllapsedTime: 5.1 seconds RetCode: 0 Status: OK