Package: CyTOFpower Version: 1.17.0 Command: /home/biocbuild/bbs-3.23-bioc/R/bin/R CMD build --keep-empty-dirs --no-resave-data CyTOFpower StartedAt: 2025-11-13 17:05:43 -0500 (Thu, 13 Nov 2025) EndedAt: 2025-11-13 17:05:51 -0500 (Thu, 13 Nov 2025) EllapsedTime: 8.0 seconds RetCode: 0 Status: OK PackageFile: CyTOFpower_1.17.0.tar.gz PackageFileSize: 312.2 KiB