Package: CyTOFpower Version: 1.17.0 Command: /Library/Frameworks/R.framework/Resources/bin/R CMD INSTALL CyTOFpower StartedAt: 2025-11-12 15:33:20 -0500 (Wed, 12 Nov 2025) EndedAt: 2025-11-12 15:33:21 -0500 (Wed, 12 Nov 2025) EllapsedTime: 1.0 seconds RetCode: 1 Status: ERROR