Package: CyTOFpower Version: 1.17.0 Maintainer: Anne-Maud Ferreira MaintainerEmail: anne-maud.ferreira at stanford.edu git_url: https://git.bioconductor.org/packages/CyTOFpower git_branch: devel git_last_commit: 7886a64 git_last_commit_date: 2025-10-29 11:13:08 -0500 (Wed, 29 Oct 2025)