Package: CuratedAtlasQueryR Version: 1.9.0 Command: /home/biocbuild/bbs-3.23-bioc/R/bin/R CMD INSTALL CuratedAtlasQueryR StartedAt: 2025-11-13 15:35:18 -0500 (Thu, 13 Nov 2025) EndedAt: 2025-11-13 15:35:57 -0500 (Thu, 13 Nov 2025) EllapsedTime: 38.8 seconds RetCode: 0 Status: OK