Package: CuratedAtlasQueryR Version: 1.9.0 Command: /Library/Frameworks/R.framework/Resources/bin/R CMD INSTALL CuratedAtlasQueryR StartedAt: 2025-11-13 15:11:58 -0500 (Thu, 13 Nov 2025) EndedAt: 2025-11-13 15:12:14 -0500 (Thu, 13 Nov 2025) EllapsedTime: 15.8 seconds RetCode: 0 Status: OK