Package: CuratedAtlasQueryR Version: 1.9.0 Command: /Library/Frameworks/R.framework/Resources/bin/R CMD check --install=check:CuratedAtlasQueryR.install-out.txt --library=/Library/Frameworks/R.framework/Resources/library --no-vignettes --timings CuratedAtlasQueryR_1.9.0.tar.gz StartedAt: 2025-11-14 19:20:20 -0500 (Fri, 14 Nov 2025) EndedAt: 2025-11-14 19:23:14 -0500 (Fri, 14 Nov 2025) EllapsedTime: 174.2 seconds RetCode: 0 Status: OK CheckDir: CuratedAtlasQueryR.Rcheck Warnings: 0