Package: CuratedAtlasQueryR Version: 1.9.0 Command: /Library/Frameworks/R.framework/Resources/bin/R CMD build --keep-empty-dirs --no-resave-data CuratedAtlasQueryR StartedAt: 2025-11-13 16:05:55 -0500 (Thu, 13 Nov 2025) EndedAt: 2025-11-13 16:06:48 -0500 (Thu, 13 Nov 2025) EllapsedTime: 52.6 seconds RetCode: 0 Status: OK PackageFile: CuratedAtlasQueryR_1.9.0.tar.gz PackageFileSize: 967.2 KiB