Package: CuratedAtlasQueryR Version: 1.9.0 Command: rm -rf CuratedAtlasQueryR.buildbin-libdir && mkdir CuratedAtlasQueryR.buildbin-libdir && /Users/biocbuild/BBS/utils/build-universal.sh CuratedAtlasQueryR_1.9.0.tar.gz /Library/Frameworks/R.framework/Resources/bin/R CuratedAtlasQueryR.buildbin-libdir StartedAt: 2025-11-13 23:33:57 -0500 (Thu, 13 Nov 2025) EndedAt: 2025-11-13 23:34:16 -0500 (Thu, 13 Nov 2025) EllapsedTime: 18.4 seconds RetCode: 0 Status: OK PackageFile: CuratedAtlasQueryR_1.9.0.tgz PackageFileSize: 1015 KiB