Package: CrispRVariants Version: 1.39.0 Command: /home/biocbuild/bbs-3.23-bioc/R/bin/R CMD INSTALL CrispRVariants StartedAt: 2025-11-14 15:26:25 -0500 (Fri, 14 Nov 2025) EndedAt: 2025-11-14 15:27:09 -0500 (Fri, 14 Nov 2025) EllapsedTime: 43.7 seconds RetCode: 0 Status: OK