Package: CrispRVariants Version: 1.39.0 Command: /home/biocbuild/bbs-3.23-bioc/R/bin/R CMD build --keep-empty-dirs --no-resave-data CrispRVariants StartedAt: 2025-11-14 17:02:25 -0500 (Fri, 14 Nov 2025) EndedAt: 2025-11-14 17:04:33 -0500 (Fri, 14 Nov 2025) EllapsedTime: 128.1 seconds RetCode: 0 Status: OK PackageFile: CrispRVariants_1.39.0.tar.gz PackageFileSize: 3.601 MiB