Package: CrispRVariants Version: 1.39.0 Command: /Library/Frameworks/R.framework/Resources/bin/R CMD build --keep-empty-dirs --no-resave-data CrispRVariants StartedAt: 2025-11-14 16:01:19 -0500 (Fri, 14 Nov 2025) EndedAt: 2025-11-14 16:02:09 -0500 (Fri, 14 Nov 2025) EllapsedTime: 50.5 seconds RetCode: 0 Status: OK PackageFile: CrispRVariants_1.39.0.tar.gz PackageFileSize: 3.517 MiB