Package: CrispRVariants Version: 1.39.0 Command: rm -rf CrispRVariants.buildbin-libdir && mkdir CrispRVariants.buildbin-libdir && /Users/biocbuild/BBS/utils/build-universal.sh CrispRVariants_1.39.0.tar.gz /Library/Frameworks/R.framework/Resources/bin/R CrispRVariants.buildbin-libdir StartedAt: 2025-11-14 23:28:37 -0500 (Fri, 14 Nov 2025) EndedAt: 2025-11-14 23:29:00 -0500 (Fri, 14 Nov 2025) EllapsedTime: 22.5 seconds RetCode: 0 Status: OK PackageFile: CrispRVariants_1.39.0.tgz PackageFileSize: 3.937 MiB