Package: CrispRVariants Version: 1.39.0 Maintainer: Helen Lindsay MaintainerEmail: helen.lindsay at chuv.ch git_url: https://git.bioconductor.org/packages/CrispRVariants git_branch: devel git_last_commit: 4dcc360 git_last_commit_date: 2025-10-29 10:29:17 -0500 (Wed, 29 Oct 2025)