Package: CoverageView Version: 1.49.0 Command: /home/biocbuild/bbs-3.23-bioc/R/bin/R CMD INSTALL CoverageView StartedAt: 2025-11-11 15:31:23 -0500 (Tue, 11 Nov 2025) EndedAt: 2025-11-11 15:31:55 -0500 (Tue, 11 Nov 2025) EllapsedTime: 31.6 seconds RetCode: 0 Status: OK