Package: CoverageView Version: 1.49.0 Command: /Library/Frameworks/R.framework/Resources/bin/R CMD INSTALL CoverageView StartedAt: 2025-11-13 15:16:38 -0500 (Thu, 13 Nov 2025) EndedAt: 2025-11-13 15:16:52 -0500 (Thu, 13 Nov 2025) EllapsedTime: 13.3 seconds RetCode: 0 Status: OK