Package: CoverageView Version: 1.49.0 Command: /Library/Frameworks/R.framework/Resources/bin/R CMD check --install=check:CoverageView.install-out.txt --library=/Library/Frameworks/R.framework/Resources/library --no-vignettes --timings CoverageView_1.49.0.tar.gz StartedAt: 2025-11-13 19:17:02 -0500 (Thu, 13 Nov 2025) EndedAt: 2025-11-13 19:18:41 -0500 (Thu, 13 Nov 2025) EllapsedTime: 99.2 seconds RetCode: 0 Status: WARNINGS CheckDir: CoverageView.Rcheck Warnings: 1