Package: CoverageView Version: 1.49.0 Command: /Library/Frameworks/R.framework/Resources/bin/R CMD build --keep-empty-dirs --no-resave-data CoverageView StartedAt: 2025-11-13 16:03:01 -0500 (Thu, 13 Nov 2025) EndedAt: 2025-11-13 16:03:28 -0500 (Thu, 13 Nov 2025) EllapsedTime: 26.3 seconds RetCode: 0 Status: OK PackageFile: CoverageView_1.49.0.tar.gz PackageFileSize: 2.554 MiB