Package: CoreGx Version: 2.15.0 Command: /home/biocbuild/bbs-3.23-bioc/R/bin/R CMD INSTALL CoreGx StartedAt: 2025-11-13 15:23:24 -0500 (Thu, 13 Nov 2025) EndedAt: 2025-11-13 15:24:02 -0500 (Thu, 13 Nov 2025) EllapsedTime: 38.2 seconds RetCode: 0 Status: OK