Package: CoreGx Version: 2.15.0 Command: /home/biocbuild/bbs-3.23-bioc/R/bin/R CMD build --keep-empty-dirs --no-resave-data CoreGx StartedAt: 2025-11-13 16:57:55 -0500 (Thu, 13 Nov 2025) EndedAt: 2025-11-13 16:58:52 -0500 (Thu, 13 Nov 2025) EllapsedTime: 57.0 seconds RetCode: 0 Status: OK PackageFile: CoreGx_2.15.0.tar.gz PackageFileSize: 1.364 MiB