Package: CoreGx Version: 2.15.0 Maintainer: Benjamin Haibe-Kains MaintainerEmail: benjamin.haibe.kains at utoronto.ca git_url: https://git.bioconductor.org/packages/CoreGx git_branch: devel git_last_commit: e18fa83 git_last_commit_date: 2025-10-29 10:59:21 -0500 (Wed, 29 Oct 2025)