Package: CopyNumberPlots Version: 1.27.0 Command: /home/biocbuild/bbs-3.23-bioc/R/bin/R CMD INSTALL CopyNumberPlots StartedAt: 2025-11-13 15:46:19 -0500 (Thu, 13 Nov 2025) EndedAt: 2025-11-13 15:47:05 -0500 (Thu, 13 Nov 2025) EllapsedTime: 45.9 seconds RetCode: 0 Status: OK