Package: CopyNumberPlots Version: 1.27.0 Command: /home/biocbuild/bbs-3.23-bioc/R/bin/R CMD build --keep-empty-dirs --no-resave-data CopyNumberPlots StartedAt: 2025-11-13 16:57:25 -0500 (Thu, 13 Nov 2025) EndedAt: 2025-11-13 16:58:57 -0500 (Thu, 13 Nov 2025) EllapsedTime: 92.1 seconds RetCode: 0 Status: OK PackageFile: CopyNumberPlots_1.27.0.tar.gz PackageFileSize: 1.769 MiB