Package: CopyNumberPlots Version: 1.27.0 Command: /Library/Frameworks/R.framework/Resources/bin/R CMD INSTALL CopyNumberPlots StartedAt: 2025-11-12 15:42:11 -0500 (Wed, 12 Nov 2025) EndedAt: 2025-11-12 15:42:12 -0500 (Wed, 12 Nov 2025) EllapsedTime: 1.1 seconds RetCode: 1 Status: ERROR