Package: CopyNumberPlots Version: 1.27.0 Maintainer: Bernat Gel MaintainerEmail: bgel at igtp.cat git_url: https://git.bioconductor.org/packages/CopyNumberPlots git_branch: devel git_last_commit: d68d13f git_last_commit_date: 2025-10-29 10:51:43 -0500 (Wed, 29 Oct 2025)