Package: ConsensusClusterPlus Version: 1.75.0 Command: /home/biocbuild/bbs-3.23-bioc/R/bin/R CMD INSTALL ConsensusClusterPlus StartedAt: 2025-11-11 15:16:59 -0500 (Tue, 11 Nov 2025) EndedAt: 2025-11-11 15:17:02 -0500 (Tue, 11 Nov 2025) EllapsedTime: 3.4 seconds RetCode: 0 Status: OK