Package: ConsensusClusterPlus Version: 1.75.0 Command: /Library/Frameworks/R.framework/Resources/bin/R CMD build --keep-empty-dirs --no-resave-data ConsensusClusterPlus StartedAt: 2025-11-13 16:01:48 -0500 (Thu, 13 Nov 2025) EndedAt: 2025-11-13 16:01:54 -0500 (Thu, 13 Nov 2025) EllapsedTime: 6.1 seconds RetCode: 0 Status: OK PackageFile: ConsensusClusterPlus_1.75.0.tar.gz PackageFileSize: 383.1 KiB