Package: CompoundDb Version: 1.15.0 Command: /home/biocbuild/bbs-3.23-bioc/R/bin/R CMD INSTALL CompoundDb StartedAt: 2025-11-11 15:38:41 -0500 (Tue, 11 Nov 2025) EndedAt: 2025-11-11 15:39:01 -0500 (Tue, 11 Nov 2025) EllapsedTime: 20.5 seconds RetCode: 0 Status: OK