Package: CompoundDb Version: 1.15.0 Command: /Library/Frameworks/R.framework/Resources/bin/R CMD INSTALL CompoundDb StartedAt: 2025-11-13 15:20:23 -0500 (Thu, 13 Nov 2025) EndedAt: 2025-11-13 15:20:31 -0500 (Thu, 13 Nov 2025) EllapsedTime: 7.8 seconds RetCode: 0 Status: OK