Package: CompoundDb Version: 1.15.0 Command: /Library/Frameworks/R.framework/Resources/bin/R CMD check --install=check:CompoundDb.install-out.txt --library=/Library/Frameworks/R.framework/Resources/library --no-vignettes --timings CompoundDb_1.15.0.tar.gz StartedAt: 2025-11-13 19:13:07 -0500 (Thu, 13 Nov 2025) EndedAt: 2025-11-13 19:14:14 -0500 (Thu, 13 Nov 2025) EllapsedTime: 66.9 seconds RetCode: 0 Status: OK CheckDir: CompoundDb.Rcheck Warnings: 0