Package: CompoundDb Version: 1.15.0 Command: /Library/Frameworks/R.framework/Resources/bin/R CMD build --keep-empty-dirs --no-resave-data CompoundDb StartedAt: 2025-11-13 16:01:26 -0500 (Thu, 13 Nov 2025) EndedAt: 2025-11-13 16:01:41 -0500 (Thu, 13 Nov 2025) EllapsedTime: 15.2 seconds RetCode: 0 Status: OK PackageFile: CompoundDb_1.15.0.tar.gz PackageFileSize: 1.303 MiB