Package: CompoundDb Version: 1.15.0 Command: rm -rf CompoundDb.buildbin-libdir && mkdir CompoundDb.buildbin-libdir && /Users/biocbuild/BBS/utils/build-universal.sh CompoundDb_1.15.0.tar.gz /Library/Frameworks/R.framework/Resources/bin/R CompoundDb.buildbin-libdir StartedAt: 2025-11-13 23:32:50 -0500 (Thu, 13 Nov 2025) EndedAt: 2025-11-13 23:33:00 -0500 (Thu, 13 Nov 2025) EllapsedTime: 10.2 seconds RetCode: 0 Status: OK PackageFile: CompoundDb_1.15.0.tgz PackageFileSize: 1.445 MiB