Package: ComplexHeatmap Version: 2.27.0 Command: /home/biocbuild/bbs-3.23-bioc/R/bin/R CMD INSTALL ComplexHeatmap StartedAt: 2025-11-13 15:14:16 -0500 (Thu, 13 Nov 2025) EndedAt: 2025-11-13 15:14:38 -0500 (Thu, 13 Nov 2025) EllapsedTime: 21.4 seconds RetCode: 0 Status: OK