Package: ComplexHeatmap Version: 2.27.0 Command: /Library/Frameworks/R.framework/Resources/bin/R CMD INSTALL ComplexHeatmap StartedAt: 2025-11-14 15:08:12 -0500 (Fri, 14 Nov 2025) EndedAt: 2025-11-14 15:08:21 -0500 (Fri, 14 Nov 2025) EllapsedTime: 8.6 seconds RetCode: 0 Status: OK