Package: ComPrAn Version: 1.19.0 Command: /home/biocbuild/bbs-3.23-bioc/R/bin/R CMD INSTALL ComPrAn StartedAt: 2025-11-13 15:09:50 -0500 (Thu, 13 Nov 2025) EndedAt: 2025-11-13 15:10:02 -0500 (Thu, 13 Nov 2025) EllapsedTime: 11.8 seconds RetCode: 0 Status: OK