Package: ComPrAn Version: 1.19.0 Command: /home/biocbuild/bbs-3.23-bioc/R/bin/R CMD build --keep-empty-dirs --no-resave-data ComPrAn StartedAt: 2025-11-11 16:59:39 -0500 (Tue, 11 Nov 2025) EndedAt: 2025-11-11 17:00:02 -0500 (Tue, 11 Nov 2025) EllapsedTime: 23.0 seconds RetCode: 0 Status: OK PackageFile: ComPrAn_1.19.0.tar.gz PackageFileSize: 3.279 MiB