Package: ComPrAn Version: 1.19.0 Command: /Library/Frameworks/R.framework/Resources/bin/R CMD INSTALL ComPrAn StartedAt: 2025-11-13 15:05:36 -0500 (Thu, 13 Nov 2025) EndedAt: 2025-11-13 15:05:41 -0500 (Thu, 13 Nov 2025) EllapsedTime: 4.5 seconds RetCode: 0 Status: OK