Package: ComPrAn Version: 1.19.0 Command: /Library/Frameworks/R.framework/Resources/bin/R CMD build --keep-empty-dirs --no-resave-data ComPrAn StartedAt: 2025-11-12 16:02:13 -0500 (Wed, 12 Nov 2025) EndedAt: 2025-11-12 16:02:23 -0500 (Wed, 12 Nov 2025) EllapsedTime: 10.1 seconds RetCode: 0 Status: OK PackageFile: ComPrAn_1.19.0.tar.gz PackageFileSize: 3.35 MiB