Package: ComPrAn Version: 1.19.0 Command: rm -rf ComPrAn.buildbin-libdir && mkdir ComPrAn.buildbin-libdir && /Users/biocbuild/BBS/utils/build-universal.sh ComPrAn_1.19.0.tar.gz /Library/Frameworks/R.framework/Resources/bin/R ComPrAn.buildbin-libdir StartedAt: 2025-11-12 20:54:46 -0500 (Wed, 12 Nov 2025) EndedAt: 2025-11-12 20:54:50 -0500 (Wed, 12 Nov 2025) EllapsedTime: 4.1 seconds RetCode: 0 Status: OK PackageFile: ComPrAn_1.19.0.tgz PackageFileSize: 2.563 MiB