Package: CoCiteStats Version: 1.83.0 Command: /home/biocbuild/bbs-3.23-bioc/R/bin/R CMD INSTALL CoCiteStats StartedAt: 2025-11-14 15:39:18 -0500 (Fri, 14 Nov 2025) EndedAt: 2025-11-14 15:39:30 -0500 (Fri, 14 Nov 2025) EllapsedTime: 12.5 seconds RetCode: 0 Status: OK