Package: CoCiteStats Version: 1.83.0 Command: /home/biocbuild/bbs-3.23-bioc/R/bin/R CMD build --keep-empty-dirs --no-resave-data CoCiteStats StartedAt: 2025-11-14 16:54:11 -0500 (Fri, 14 Nov 2025) EndedAt: 2025-11-14 16:54:12 -0500 (Fri, 14 Nov 2025) EllapsedTime: 1.0 seconds RetCode: 0 Status: OK PackageFile: CoCiteStats_1.83.0.tar.gz PackageFileSize: 5.33 KiB