Package: CoCiteStats Version: 1.83.0 Command: /Library/Frameworks/R.framework/Resources/bin/R CMD INSTALL CoCiteStats StartedAt: 2025-11-14 15:10:59 -0500 (Fri, 14 Nov 2025) EndedAt: 2025-11-14 15:11:04 -0500 (Fri, 14 Nov 2025) EllapsedTime: 5.6 seconds RetCode: 0 Status: OK