Package: CoCiteStats Version: 1.83.0 Command: rm -rf CoCiteStats.buildbin-libdir && mkdir CoCiteStats.buildbin-libdir && /Users/biocbuild/BBS/utils/build-universal.sh CoCiteStats_1.83.0.tar.gz /Library/Frameworks/R.framework/Resources/bin/R CoCiteStats.buildbin-libdir StartedAt: 2025-11-14 23:27:34 -0500 (Fri, 14 Nov 2025) EndedAt: 2025-11-14 23:27:42 -0500 (Fri, 14 Nov 2025) EllapsedTime: 7.2 seconds RetCode: 0 Status: OK PackageFile: CoCiteStats_1.83.0.tgz PackageFileSize: 32.84 KiB