Package: ClusterSignificance Version: 1.39.0 Command: /home/biocbuild/bbs-3.23-bioc/R/bin/R CMD INSTALL ClusterSignificance StartedAt: 2025-11-13 15:05:42 -0500 (Thu, 13 Nov 2025) EndedAt: 2025-11-13 15:05:54 -0500 (Thu, 13 Nov 2025) EllapsedTime: 11.9 seconds RetCode: 0 Status: OK