Package: ClusterSignificance Version: 1.39.0 Command: /home/biocbuild/bbs-3.23-bioc/R/bin/R CMD check --install=check:ClusterSignificance.install-out.txt --library=/home/biocbuild/bbs-3.23-bioc/R/site-library --timings ClusterSignificance_1.39.0.tar.gz StartedAt: 2025-11-14 22:06:53 -0500 (Fri, 14 Nov 2025) EndedAt: 2025-11-14 22:08:20 -0500 (Fri, 14 Nov 2025) EllapsedTime: 87.0 seconds RetCode: 0 Status: OK CheckDir: ClusterSignificance.Rcheck Warnings: 0