Package: ClusterSignificance Version: 1.39.0 Command: /Library/Frameworks/R.framework/Resources/bin/R CMD check --install=check:ClusterSignificance.install-out.txt --library=/Library/Frameworks/R.framework/Resources/library --no-vignettes --timings ClusterSignificance_1.39.0.tar.gz StartedAt: 2025-11-25 19:06:36 -0500 (Tue, 25 Nov 2025) EndedAt: 2025-11-25 19:06:54 -0500 (Tue, 25 Nov 2025) EllapsedTime: 18.2 seconds RetCode: 0 Status: OK CheckDir: ClusterSignificance.Rcheck Warnings: 0