Package: ClusterSignificance Version: 1.39.0 Command: /Library/Frameworks/R.framework/Resources/bin/R CMD build --keep-empty-dirs --no-resave-data ClusterSignificance StartedAt: 2025-11-13 15:58:46 -0500 (Thu, 13 Nov 2025) EndedAt: 2025-11-13 15:59:07 -0500 (Thu, 13 Nov 2025) EllapsedTime: 20.2 seconds RetCode: 0 Status: OK PackageFile: ClusterSignificance_1.39.0.tar.gz PackageFileSize: 2.113 MiB