Package: ClusterSignificance Version: 1.39.0 Command: rm -rf ClusterSignificance.buildbin-libdir && mkdir ClusterSignificance.buildbin-libdir && /Users/biocbuild/BBS/utils/build-universal.sh ClusterSignificance_1.39.0.tar.gz /Library/Frameworks/R.framework/Resources/bin/R ClusterSignificance.buildbin-libdir StartedAt: 2025-11-13 23:32:13 -0500 (Thu, 13 Nov 2025) EndedAt: 2025-11-13 23:32:16 -0500 (Thu, 13 Nov 2025) EllapsedTime: 3.1 seconds RetCode: 0 Status: OK PackageFile: ClusterSignificance_1.39.0.tgz PackageFileSize: 2.309 MiB